BEGIN:VCALENDAR
PRODID:-//wairakeitaupo.school.nz//EN
VERSION:2.0
METHOD:PUBLISH
BEGIN:VEVENT
DTSTART;TZID=America/New_York:20260427T900
DTEND;TZID=America/New_York:20260427T1500
URL:https://wairakeitaupo.school.nz/events/public-holiday-anzac-day
SUMMARY:Public Holiday - ANZAC Day
LOCATION:
DESCRIPTION:Wairakei Primary School invites all families to the ANZAC Day Parade on April 25, 2024. Representatives from the school will meet at the Taupo Museum at [time to be confirmed] wearing school uniform.
END:VEVENT
END:VCALENDAR